BEGIN:VCALENDAR
VERSION:2.0
PRODID:-//Edgewall Software//NONSGML Trac 1.2.3//EN
METHOD:PUBLISH
X-WR-CALNAME:TOL-Project - Roadmap
X-WR-CALDESC:Keeping an eye on the Past to Foresee the Future
X-WR-TIMEZONE:UTC+00:00
BEGIN:VEVENT
UID:</tolp/milestone/Using OOP in BSR@trac/tolp>
DTSTAMP:20090327T000000Z
DTSTART;VALUE=DATE:20090327
SUMMARY:Milestone Using OOP in BSR
URL:http://trac/tolp/milestone/Using%20OOP%20in%20BSR
DESCRIPTION:BSR must be adapted to new OOP Class of TOL v.2.0.1 in order to
  be more easy to use and maintain.
END:VEVENT
BEGIN:VEVENT
UID:</tolp/milestone/BSR reestimation@trac/tolp>
DTSTAMP:20090531T000000Z
DTSTART;VALUE=DATE:20090531
SUMMARY:Milestone BSR reestimation
URL:http://trac/tolp/milestone/BSR%20reestimation
DESCRIPTION:Most of applications of BSR models in inference and forecast ta
 sks\, and also reestimation of models to update small changes as a few new
  data or variables\, may be treated as simulation process that could be de
 fined as simplified versions of original and previously simulated model.\n
 If we have an stored copy of definition and simulation results of a model 
 and we have a simplified method to modify it in some predefined senses\, t
 hen we can use BSR in a faster way to reestimate\, forecast or inference t
 asks.\nIn order to reduce computational cost\, user should be able to fix 
 some parameters to specific values or skip the simulation of other ones si
 mply by reading them from stored MCMC.\n 1. Fixing full blocks\n 1. Fixing
  partial blocks\n 1. Reloading partial Markov Chain\n 1. Forecasting metho
 ds by mean of missing output block
END:VEVENT
BEGIN:VEVENT
UID:</tolp/milestone/TOLBase Revitalization@trac/tolp>
DTSTAMP:20091224T230000Z
DTSTART;VALUE=DATE:20091224
SUMMARY:Milestone TOLBase Revitalization
URL:http://trac/tolp/milestone/TOLBase%20Revitalization
DESCRIPTION:TOLBase should be updated in order to use Tk 8.5 this will prov
 ide a better native look in windows and linux.\nIn order to change from Tk
  8.4 to Tk 8.5 we must compile BLT 3.0 because BLT 2.4z is not compatible 
 with Tk 8.5.\nBLT is the extension provinding the graphics capabilities.\n
 In this moment TOLBase is using the BLT's version number 2.4z which has no
 t being updated since 2002.\nFrom BLT we are using blt::graph and blt::hie
 rtable. There is an equivalent tree widget that is mantained from de TCT w
 hich has a better look than hiertable. This alternative tree widget is TkT
 reeCtrl\n * Create a branch TOLBase_Tk85 for tolbase\n * package require T
 k 8.5\n * substitute blt::hiertable for TkTreeCtrl\n * compile blt 3.0 for
  windows and linux\n * substitute blt 2.4z for blt 3.0: fix bugs related t
 o graph\n * update byswidget depending on blt::hiertable\n * improve edito
 r widget: consider TkTextPlus\n
END:VEVENT
BEGIN:VEVENT
UID:</tolp/milestone/BSR API@trac/tolp>
DTSTAMP:20091231T000000Z
DTSTART;VALUE=DATE:20091231
SUMMARY:Milestone BSR API
URL:http://trac/tolp/milestone/BSR%20API
DESCRIPTION:All themes related to BSR API's\, ASCII\, Import\, OneNode\, DB
 Api\, ...
END:VEVENT
BEGIN:VEVENT
UID:</tolp/milestone/BSR Diagnosis@trac/tolp>
DTSTAMP:20091231T000000Z
DTSTART;VALUE=DATE:20091231
SUMMARY:Milestone BSR Diagnosis
URL:http://trac/tolp/milestone/BSR%20Diagnosis
DESCRIPTION:Diagnosis methods for BSR about convergence of Markov Chain and
  quality of inference
END:VEVENT
BEGIN:VEVENT
UID:</tolp/milestone/BSR Documentation@trac/tolp>
DTSTAMP:20091231T000000Z
DTSTART;VALUE=DATE:20091231
SUMMARY:Milestone BSR Documentation
URL:http://trac/tolp/milestone/BSR%20Documentation
DESCRIPTION:All about BSR documentation:\n 1. Code inside commentaries\n 1.
  Mathematical justifications\n 1. User guide\n 1. Programmer manual\n 1. C
 ourses\n 1. Examples of use
END:VEVENT
BEGIN:VEVENT
UID:</tolp/milestone/BSR hierarchy and priors@trac/tolp>
DTSTAMP:20091231T000000Z
DTSTART;VALUE=DATE:20091231
SUMMARY:Milestone BSR hierarchy and priors
URL:http://trac/tolp/milestone/BSR%20hierarchy%20and%20priors
DESCRIPTION:Definition of hierarchy and prior information over all BSR bloc
 ks
END:VEVENT
BEGIN:VEVENT
UID:</tolp/milestone/Compilation of external packages with CMake@trac/tolp>
DTSTAMP:20131230T230000Z
DTSTART;VALUE=DATE:20131230
SUMMARY:Milestone Compilation of external packages with CMake
URL:http://trac/tolp/milestone/Compilation%20of%20external%20packages%20wit
 h%20CMake
DESCRIPTION:Every contrib package must have a controlled compilation proces
 s. This is necessary when changing the compiler version.\nCMake seems to b
 e a portable and multiplatform solution.
END:VEVENT
END:VCALENDAR
